BEGIN:VCALENDAR
VERSION:2.0
PRODID:-//Avutom - ECPv4.8.1//NONSGML v1.0//EN
CALSCALE:GREGORIAN
METHOD:PUBLISH
X-WR-CALNAME:Avutom
X-ORIGINAL-URL:https://avutom.com
X-WR-CALDESC:Events for Avutom
BEGIN:VEVENT
DTSTART;VALUE=DATE:20190806
DTEND;VALUE=DATE:20190809
DTSTAMP:20260419T173450
CREATED:20190304T061614Z
LAST-MODIFIED:20190507T113512Z
UID:534-1565049600-1565308799@avutom.com
SUMMARY:Set and monitor the achievement of goals and objectives for a team or department
DESCRIPTION:
URL:https://avutom.com/event/set-and-monitor-the-achievement-of-goals-and-objectives-for-a-team-or-department/
ATTACH;FMTTYPE=image/png:https://avutom.com/wp-content/uploads/2019/02/Monitoring.png
END:VEVENT
END:VCALENDAR