BEGIN:VCALENDAR
VERSION:2.0
PRODID:-//Avutom - ECPv4.8.1//NONSGML v1.0//EN
CALSCALE:GREGORIAN
METHOD:PUBLISH
X-WR-CALNAME:Avutom
X-ORIGINAL-URL:https://avutom.com
X-WR-CALDESC:Events for Avutom
BEGIN:VEVENT
DTSTART;VALUE=DATE:20190604
DTEND;VALUE=DATE:20190607
DTSTAMP:20260419T193043
CREATED:20190304T085722Z
LAST-MODIFIED:20190507T114217Z
UID:538-1559606400-1559865599@avutom.com
SUMMARY:Ethics and the maintaining workplace relationships as organisational culture
DESCRIPTION:
URL:https://avutom.com/event/ethics-and-the-maintaining-workplace-relationships-as-organisational-culture/
ATTACH;FMTTYPE=image/png:https://avutom.com/wp-content/uploads/2019/02/Ethics.png
END:VEVENT
END:VCALENDAR