BEGIN:VCALENDAR
VERSION:2.0
PRODID:-//Avutom - ECPv4.8.1//NONSGML v1.0//EN
CALSCALE:GREGORIAN
METHOD:PUBLISH
X-WR-CALNAME:Avutom
X-ORIGINAL-URL:https://avutom.com
X-WR-CALDESC:Events for Avutom
BEGIN:VEVENT
DTSTART;VALUE=DATE:20191001
DTEND;VALUE=DATE:20191004
DTSTAMP:20260419T173323
CREATED:20190304T061405Z
LAST-MODIFIED:20190507T110852Z
UID:530-1569888000-1570147199@avutom.com
SUMMARY:Entrepreneurial economics and the utilisation of innovation
DESCRIPTION:
URL:https://avutom.com/event/entrepreneurial-economics-and-the-utilisation-of-innovation/
ATTACH;FMTTYPE=image/png:https://avutom.com/wp-content/uploads/2019/02/Innovations.png
END:VEVENT
END:VCALENDAR