BEGIN:VCALENDAR
VERSION:2.0
PRODID:-//Avutom - ECPv4.8.1//NONSGML v1.0//EN
CALSCALE:GREGORIAN
METHOD:PUBLISH
X-WR-CALNAME:Avutom
X-ORIGINAL-URL:https://avutom.com
X-WR-CALDESC:Events for Avutom
BEGIN:VEVENT
DTSTART;VALUE=DATE:20190903
DTEND;VALUE=DATE:20190906
DTSTAMP:20260419T175410
CREATED:20190304T061457Z
LAST-MODIFIED:20190507T113146Z
UID:532-1567468800-1567727999@avutom.com
SUMMARY:Digital marketing in the modern era
DESCRIPTION:
URL:https://avutom.com/event/digital-marketing-in-the-modern-era/
ATTACH;FMTTYPE=image/png:https://avutom.com/wp-content/uploads/2019/02/SocialMedia.png
END:VEVENT
END:VCALENDAR