BEGIN:VCALENDAR
VERSION:2.0
PRODID:-//Avutom - ECPv4.8.1//NONSGML v1.0//EN
CALSCALE:GREGORIAN
METHOD:PUBLISH
X-WR-CALNAME:Avutom
X-ORIGINAL-URL:https://avutom.com
X-WR-CALDESC:Events for Avutom
BEGIN:VEVENT
DTSTART;VALUE=DATE:20190508
DTEND;VALUE=DATE:20190511
DTSTAMP:20260419T191025
CREATED:20190304T061126Z
LAST-MODIFIED:20190507T114259Z
UID:528-1557273600-1557532799@avutom.com
SUMMARY:Building and empowering teams for organisational success
DESCRIPTION:
URL:https://avutom.com/event/building-and-empowering-teams-for-organisational-success/
ATTACH;FMTTYPE=image/jpeg:https://avutom.com/wp-content/uploads/2019/02/Success.jpg
END:VEVENT
END:VCALENDAR